BEGIN:VCALENDAR
VERSION:2.0
PRODID:-//Centrul Metropolitan de Educație și Cultură &quot;Ioan I. Dalles&quot; - ECPv6.10.3//NONSGML v1.0//EN
CALSCALE:GREGORIAN
METHOD:PUBLISH
X-WR-CALNAME:Centrul Metropolitan de Educație și Cultură &quot;Ioan I. Dalles&quot;
X-ORIGINAL-URL:https://www.dalles.ro
X-WR-CALDESC:Events for Centrul Metropolitan de Educație și Cultură &quot;Ioan I. Dalles&quot;
REFRESH-INTERVAL;VALUE=DURATION:PT1H
X-Robots-Tag:noindex
X-PUBLISHED-TTL:PT1H
BEGIN:VTIMEZONE
TZID:Europe/Bucharest
BEGIN:DAYLIGHT
TZOFFSETFROM:+0200
TZOFFSETTO:+0300
TZNAME:EEST
DTSTART:20260329T010000
END:DAYLIGHT
BEGIN:STANDARD
TZOFFSETFROM:+0300
TZOFFSETTO:+0200
TZNAME:EET
DTSTART:20261025T010000
END:STANDARD
END:VTIMEZONE
BEGIN:VEVENT
DTSTART;TZID=Europe/Bucharest:20260524T190000
DTEND;TZID=Europe/Bucharest:20260524T190000
DTSTAMP:20260419T122514
CREATED:20260403T222503Z
LAST-MODIFIED:20260403T222608Z
UID:22566-1779649200-1779649200@www.dalles.ro
SUMMARY:Conu’ Leonida și soacră-mea\, Fifina!
DESCRIPTION:Cumpără bilete\n\nProiectul impresionant CARAGIALE INTEGRAL inițiat de regizorul Dan Tudor continuă cu spectacolul Conu’ Leonida și soacră-mea\, Fifina!\nInovația montării o reprezintă melanjul ingenios alcătuit din împletirea celebrei farse într-un act “Conu’ Leonida față cu reacțiunea” cu “Soacră-mea\, Fifina”…cea mai puțin cunoscută comedie a lui nenea Iancu. \nDescriind pe scurt subiectul ingenioasei povești a Fifinei vă facem în final și o invitație la spectacolul nostru inedit citând chiar din celebrul Conu’ Leonida.\nAlexandru Peruzeanu\, proaspăt căsătorit\, se hotărăște să-i joace o festă soacrei sale\, Fifina\, adormind-o cu ajutorul unor prafuri\, astfel încât să poată petrece puțin timp cu soția sa\, departe de ochii mamei vitrege a acesteia care nu o lăsa un moment nesupravegheată. Cu toate acestea\, planul lui nu va da roade\, înșelat fiind de cel care i-a vândut somniferele\, dar reușește în cele din urmă să „scape” de controlul tiranicei soacre printr-o întâmplare ce va aduce fericirea tuturor personajelor și hazul spectatorilor. \nDacă sunteți curioși cu reușește Peruzeanu să scape de sub controlul Fifinei și să se căsătorească “șifonat” cu Iulia veniți în sala de spectacol chiar la îndemnul nemuritorului Conu’ Leonida:\n”Când aude de libertate\, sare și dumneaei răposata din pat… că era republicană! Zic: gătește-te degrab’\, Mițule\, și… hai și noi pe la revuluție. Ne îmbrăcăm\, domnule\, frumos\, și-o luăm repede pe jos pân’ la teatru.” \nValoarea actorilor din distribuție Amalia Ciolan\, Tomi Cristin\, Afrodita Androne\, Gabriel Coveșeanu\, Adrian Dima\, Grațiela Teohari Duban\, Adriana Guluțanu\, Oliviu Bughiu\, Dan Tudor\, dar și ineditul abordării comice a celor două piese ale uluitorului autor de comedie IL Caragiale\, reprezintă garanția unei seri memorabile de teatru. \nHaideți la CARAGIALE INTEGRAL! \nDatele de premieră de până acum ale acestui demers: \n\nO NOAPTE FURTUNOASĂ\nD’ALE CARNAVALULUI\nMOFTURI ȘI MOFTANGII\nCONU’ LEONIDA și SOACRĂ-MEA\,FIFINA\n\nÎn repetiții \n\nO SCRISOARE PIERDUTĂ și\nHATMANUL BALTAG
URL:https://www.dalles.ro/eveniment/conu-leonida-si-soacra-mea-fifina-24-05-2026/
LOCATION:Sala Dalles\, Bd. Nicolae Bălcescu\, nr. 18\, București
ATTACH;FMTTYPE=image/jpeg:https://www.dalles.ro/wp-content/uploads/2026/04/conu-leonida-24-05-2026.jpg
END:VEVENT
END:VCALENDAR